BEGIN:VCALENDAR
PRODID:-//SINGPromos.com//NONSGML v1.0//EN
VERSION:2.0
CALSCALE:GREGORIAN
METHOD:PUBLISH
X-WR-CALNAME:SINGPromos.com
X-ORIGINAL-URL:https://singpromos.com
X-WR-CALDESC:Events for SINGPromos.com
BEGIN:VEVENT
DTSTART:20220407T000000
DTEND:20220720T235900
DTSTAMP:20260422T081525
CREATED:20220407T120357
LAST-MODIFIED:20220416T101203
UID:256191@https://singpromos.com
SUMMARY:Fairprice: Spend & redeem exclusive Disney Winnie the Pooh collection at up to 72% off till July 20, 2022
DESCRIPTION:Join Winnie the Pooh in his adventure today. For more information, visit [ https://singpromos.com/department-stores/fairprice-spend-redeem-disney-winnie-the-pooh-collection-at-up-to-72-off-till-july-20-2022-256191/ ]. 
LOCATION:
URL:https://singpromos.com/department-stores/fairprice-spend-redeem-disney-winnie-the-pooh-collection-at-up-to-72-off-till-july-20-2022-256191/
END:VEVENT
END:VCALENDAR