BEGIN:VCALENDAR
PRODID:-//SINGPromos.com//NONSGML v1.0//EN
VERSION:2.0
CALSCALE:GREGORIAN
METHOD:PUBLISH
X-WR-CALNAME:SINGPromos.com
X-ORIGINAL-URL:https://singpromos.com
X-WR-CALDESC:Events for SINGPromos.com
BEGIN:VEVENT
DTSTART:20120216T000000
DTEND:20120222T235900
DTSTAMP:20260420T182339
CREATED:20120216T093824
LAST-MODIFIED:20120216T093824
UID:25628@https://singpromos.com
SUMMARY:Harvey Norman Digital Cameras Promotion 16 - 22 Feb 2012
DESCRIPTION:Harvey Norman is having a "Cut & Save" promotion for selected digital cameras where you can save up to $200.. For more information, visit [ https://singpromos.com/digital-cameras-dslr/harvey-norman-digital-cameras-promotion-16-22-feb-2012-25628/ ]. 
LOCATION:
URL:https://singpromos.com/digital-cameras-dslr/harvey-norman-digital-cameras-promotion-16-22-feb-2012-25628/
END:VEVENT
END:VCALENDAR