BEGIN:VCALENDAR
PRODID:-//SINGPromos.com//NONSGML v1.0//EN
VERSION:2.0
CALSCALE:GREGORIAN
METHOD:PUBLISH
X-WR-CALNAME:SINGPromos.com
X-ORIGINAL-URL:https://singpromos.com
X-WR-CALDESC:Events for SINGPromos.com
BEGIN:VEVENT
DTSTART:20220429T000000
DTEND:20220501T235900
DTSTAMP:20260424T023530
CREATED:20220428T110049
LAST-MODIFIED:20220426T110701
UID:256758@https://singpromos.com
SUMMARY:Perromart Pets Care Essentials Warehouse Sale from 29 April - 1 May 2022
DESCRIPTION:Save up to 90% off brands such as Kit Cat, Royal Canin and more. For more information, visit [ https://singpromos.com/warehouse-sales/perromart-pets-care-essentials-warehouse-sale-from-29-april-1-may-2022-256758/ ]. 
LOCATION:486068
URL:https://singpromos.com/warehouse-sales/perromart-pets-care-essentials-warehouse-sale-from-29-april-1-may-2022-256758/
END:VEVENT
END:VCALENDAR