BEGIN:VCALENDAR
PRODID:-//SINGPromos.com//NONSGML v1.0//EN
VERSION:2.0
CALSCALE:GREGORIAN
METHOD:PUBLISH
X-WR-CALNAME:SINGPromos.com
X-ORIGINAL-URL:https://singpromos.com
X-WR-CALDESC:Events for SINGPromos.com
BEGIN:VEVENT
DTSTART:20220430T000000
DTEND:20220430T235900
DTSTAMP:20260423T231647
CREATED:20220429T210531
LAST-MODIFIED:20220429T211105
UID:256780@https://singpromos.com
SUMMARY:Timezone Buy $50, Get $100 1-Day flash deal promotion on 30 April 2022
DESCRIPTION:Timezone's Double Dollar deal is back!. For more information, visit [ https://singpromos.com/places-of-interest/timezone-buy-50-get-100-1-day-flash-deal-promotion-on-30-april-2022-256780/ ]. 
LOCATION:
URL:https://singpromos.com/places-of-interest/timezone-buy-50-get-100-1-day-flash-deal-promotion-on-30-april-2022-256780/
END:VEVENT
END:VCALENDAR