BEGIN:VCALENDAR
PRODID:-//SINGPromos.com//NONSGML v1.0//EN
VERSION:2.0
CALSCALE:GREGORIAN
METHOD:PUBLISH
X-WR-CALNAME:SINGPromos.com
X-ORIGINAL-URL:https://singpromos.com
X-WR-CALDESC:Events for SINGPromos.com
BEGIN:VEVENT
DTSTART:20220427T000000
DTEND:20220502T235900
DTSTAMP:20260424T023607
CREATED:20220427T170352
LAST-MODIFIED:20220427T171324
UID:256783@https://singpromos.com
SUMMARY:Swensen's: Enjoy two drumsticks of 'Fried Chicken' Ice Cream at S$5.95 till 2 May 2022
DESCRIPTION:Not real chicken but real ice cream & real value. For more information, visit [ https://singpromos.com/dining-restaurants-food/swensens-enjoy-two-drumsticks-of-fried-chicken-ice-cream-at-s5-95-from-now-till-2-may-2022-256783/ ]. 
LOCATION:
URL:https://singpromos.com/dining-restaurants-food/swensens-enjoy-two-drumsticks-of-fried-chicken-ice-cream-at-s5-95-from-now-till-2-may-2022-256783/
END:VEVENT
END:VCALENDAR