BEGIN:VCALENDAR
PRODID:-//SINGPromos.com//NONSGML v1.0//EN
VERSION:2.0
CALSCALE:GREGORIAN
METHOD:PUBLISH
X-WR-CALNAME:SINGPromos.com
X-ORIGINAL-URL:https://singpromos.com
X-WR-CALDESC:Events for SINGPromos.com
BEGIN:VEVENT
DTSTART:20220428T000000
DTEND:20220501T235900
DTSTAMP:20260424T023540
CREATED:20220428T001757
LAST-MODIFIED:20220429T115050
UID:256797@https://singpromos.com
SUMMARY:Qoo10 S'pore is giving away free $10 and $15 cart coupons till 1 May 2022
DESCRIPTION:Limited Q-Rewards. For more information, visit [ https://singpromos.com/department-stores/qoo10-spore-is-giving-away-free-10-and-15-cart-coupons-till-1-may-2022-256797/ ]. 
LOCATION:
URL:https://singpromos.com/department-stores/qoo10-spore-is-giving-away-free-10-and-15-cart-coupons-till-1-may-2022-256797/
END:VEVENT
END:VCALENDAR