BEGIN:VCALENDAR
PRODID:-//SINGPromos.com//NONSGML v1.0//EN
VERSION:2.0
CALSCALE:GREGORIAN
METHOD:PUBLISH
X-WR-CALNAME:SINGPromos.com
X-ORIGINAL-URL:https://singpromos.com
X-WR-CALDESC:Events for SINGPromos.com
BEGIN:VEVENT
DTSTART:20220428T000000
DTEND:20220501T235900
DTSTAMP:20260424T023540
CREATED:20220428T105510
LAST-MODIFIED:20220428T105510
UID:256810@https://singpromos.com
SUMMARY:McDonald's App has a 2-for-S$2 Chocolate Pie deal available till May 1, 2022
DESCRIPTION:Double the goodness. For more information, visit [ https://singpromos.com/dining-restaurants-food/mcdonalds-app-has-a-2-for-s2-chocolate-pie-deal-available-till-may-1-2022-256810/ ]. 
LOCATION:
URL:https://singpromos.com/dining-restaurants-food/mcdonalds-app-has-a-2-for-s2-chocolate-pie-deal-available-till-may-1-2022-256810/
END:VEVENT
END:VCALENDAR