BEGIN:VCALENDAR
PRODID:-//SINGPromos.com//NONSGML v1.0//EN
VERSION:2.0
CALSCALE:GREGORIAN
METHOD:PUBLISH
X-WR-CALNAME:SINGPromos.com
X-ORIGINAL-URL:https://singpromos.com
X-WR-CALDESC:Events for SINGPromos.com
BEGIN:VEVENT
DTSTART:20220428T000000
DTEND:20220501T235900
DTSTAMP:20260424T023607
CREATED:20220428T123502
LAST-MODIFIED:20220428T123502
UID:256818@https://singpromos.com
SUMMARY:64% off New Moon's Bird's Nest, 1-for-1 Laundry Capsules and other deals at FairPrice till 1 May 2022
DESCRIPTION:Enjoy shiok savings of 50% or more at selected outlets this week!. For more information, visit [ https://singpromos.com/dining-restaurants-food/64-off-new-moons-birds-nest-1-for-1-laundry-capsules-and-other-deals-at-fairprice-till-1-may-2022-256818/ ]. 
LOCATION:
URL:https://singpromos.com/dining-restaurants-food/64-off-new-moons-birds-nest-1-for-1-laundry-capsules-and-other-deals-at-fairprice-till-1-may-2022-256818/
END:VEVENT
END:VCALENDAR