BEGIN:VCALENDAR
PRODID:-//SINGPromos.com//NONSGML v1.0//EN
VERSION:2.0
CALSCALE:GREGORIAN
METHOD:PUBLISH
X-WR-CALNAME:SINGPromos.com
X-ORIGINAL-URL:https://singpromos.com
X-WR-CALDESC:Events for SINGPromos.com
BEGIN:VEVENT
DTSTART:20220428T000000
DTEND:20220503T235900
DTSTAMP:20260424T023540
CREATED:20220428T130017
LAST-MODIFIED:20220428T130017
UID:256822@https://singpromos.com
SUMMARY:Adidas S'pore online sale: 30% off selected regular-priced items and extra 30% off outlet items till 3 May 2022
DESCRIPTION:The gear you know and love, for less. For more information, visit [ https://singpromos.com/sports/adidas-spore-online-sale-30-off-selected-regular-priced-items-and-extra-30-off-outlet-items-till-3-may-2022-256822/ ]. 
LOCATION:
URL:https://singpromos.com/sports/adidas-spore-online-sale-30-off-selected-regular-priced-items-and-extra-30-off-outlet-items-till-3-may-2022-256822/
END:VEVENT
END:VCALENDAR