BEGIN:VCALENDAR
PRODID:-//SINGPromos.com//NONSGML v1.0//EN
VERSION:2.0
CALSCALE:GREGORIAN
METHOD:PUBLISH
X-WR-CALNAME:SINGPromos.com
X-ORIGINAL-URL:https://singpromos.com
X-WR-CALDESC:Events for SINGPromos.com
BEGIN:VEVENT
DTSTART:20220429T000000
DTEND:20220501T235900
DTSTAMP:20260424T023541
CREATED:20220428T185950
LAST-MODIFIED:20220428T185950
UID:256840@https://singpromos.com
SUMMARY:Playmade 313@Somerset is offering exclusive 1-FOR-1 drinks and other sweet deals from 29 April to 1 May 2022
DESCRIPTION:Exclusive 1-FOR-1 drinks and other sweet deals. For more information, visit [ https://singpromos.com/dining-restaurants-food/playmade-313somerset-is-offering-exclusive-1-for-1-drinks-and-other-sweet-deals-from-29-april-to-1-may-2022-256840/ ]. 
LOCATION:238895
URL:https://singpromos.com/dining-restaurants-food/playmade-313somerset-is-offering-exclusive-1-for-1-drinks-and-other-sweet-deals-from-29-april-to-1-may-2022-256840/
END:VEVENT
END:VCALENDAR