BEGIN:VCALENDAR
PRODID:-//SINGPromos.com//NONSGML v1.0//EN
VERSION:2.0
CALSCALE:GREGORIAN
METHOD:PUBLISH
X-WR-CALNAME:SINGPromos.com
X-ORIGINAL-URL:https://singpromos.com
X-WR-CALDESC:Events for SINGPromos.com
BEGIN:VEVENT
DTSTART:20220429T000000
DTEND:20220511T235900
DTSTAMP:20260420T061929
CREATED:20220428T201811
LAST-MODIFIED:20220428T201811
UID:256848@https://singpromos.com
SUMMARY:Scanpan Denmark Isetan Scanpan Fair from 29 Apr - 11 May 2022
DESCRIPTION:Receive a Serving Spoon (Worth $34.90) with a min. spend of $200. For more information, visit [ https://singpromos.com/happenings/scanpan-denmark-isetan-scanpan-fair-from-29-apr-11-may-2022-256848/ ]. 
LOCATION:238868
URL:https://singpromos.com/happenings/scanpan-denmark-isetan-scanpan-fair-from-29-apr-11-may-2022-256848/
END:VEVENT
END:VCALENDAR