BEGIN:VCALENDAR
PRODID:-//SINGPromos.com//NONSGML v1.0//EN
VERSION:2.0
CALSCALE:GREGORIAN
METHOD:PUBLISH
X-WR-CALNAME:SINGPromos.com
X-ORIGINAL-URL:https://singpromos.com
X-WR-CALDESC:Events for SINGPromos.com
BEGIN:VEVENT
DTSTART:20220429T000000
DTEND:20220501T235900
DTSTAMP:20260424T023541
CREATED:20220429T130601
LAST-MODIFIED:20220429T130601
UID:256861@https://singpromos.com
SUMMARY:FairPrice offering $0.90 per abalone in Fiery Hot Abalone Sale at over 70 outlets till 1 May 2022
DESCRIPTION:Cheapest abalone in Singapore. For more information, visit [ https://singpromos.com/dining-restaurants-food/fairprice-offering-0-90-per-abalone-in-fiery-hot-abalone-sale-at-over-70-outlets-till-1-may-2022-256861/ ]. 
LOCATION:
URL:https://singpromos.com/dining-restaurants-food/fairprice-offering-0-90-per-abalone-in-fiery-hot-abalone-sale-at-over-70-outlets-till-1-may-2022-256861/
END:VEVENT
END:VCALENDAR