BEGIN:VCALENDAR
PRODID:-//SINGPromos.com//NONSGML v1.0//EN
VERSION:2.0
CALSCALE:GREGORIAN
METHOD:PUBLISH
X-WR-CALNAME:SINGPromos.com
X-ORIGINAL-URL:https://singpromos.com
X-WR-CALDESC:Events for SINGPromos.com
BEGIN:VEVENT
DTSTART:20220429T000000
DTEND:20220501T235900
DTSTAMP:20260424T005531
CREATED:20220429T204452
LAST-MODIFIED:20220429T204606
UID:256871@https://singpromos.com
SUMMARY:Nike S'pore: Get 20% off your order with this promo code valid till 1 May 2022
DESCRIPTION:Start Fresh: Here's 20% off. For more information, visit [ https://singpromos.com/department-stores/nike-spore-get-20-off-your-order-with-this-promo-code-valid-till-1-may-2022-256871/ ]. 
LOCATION:
URL:https://singpromos.com/department-stores/nike-spore-get-20-off-your-order-with-this-promo-code-valid-till-1-may-2022-256871/
END:VEVENT
END:VCALENDAR