BEGIN:VCALENDAR
PRODID:-//SINGPromos.com//NONSGML v1.0//EN
VERSION:2.0
CALSCALE:GREGORIAN
METHOD:PUBLISH
X-WR-CALNAME:SINGPromos.com
X-ORIGINAL-URL:https://singpromos.com
X-WR-CALDESC:Events for SINGPromos.com
BEGIN:VEVENT
DTSTART:20220430T000000
DTEND:20220501T235900
DTSTAMP:20260424T005623
CREATED:20220430T100933
LAST-MODIFIED:20220430T101019
UID:256889@https://singpromos.com
SUMMARY:Sheng Siong 2-Days Apr. 30 - May 1 Deals: Nestle Milo, Enfagrow, KA Prince, Ballgus, Safi and more
DESCRIPTION:2 days special. For more information, visit [ https://singpromos.com/dining-restaurants-food/sheng-siong-2-days-apr-30-may-1-deals-nestle-milo-enfagrow-ka-prince-ballgus-safi-and-more-256889/ ]. 
LOCATION:
URL:https://singpromos.com/dining-restaurants-food/sheng-siong-2-days-apr-30-may-1-deals-nestle-milo-enfagrow-ka-prince-ballgus-safi-and-more-256889/
END:VEVENT
END:VCALENDAR