BEGIN:VCALENDAR
PRODID:-//SINGPromos.com//NONSGML v1.0//EN
VERSION:2.0
CALSCALE:GREGORIAN
METHOD:PUBLISH
X-WR-CALNAME:SINGPromos.com
X-ORIGINAL-URL:https://singpromos.com
X-WR-CALDESC:Events for SINGPromos.com
BEGIN:VEVENT
DTSTART:20220501T000000
DTEND:20220507T235900
DTSTAMP:20260424T005532
CREATED:20220430T102953
LAST-MODIFIED:20220430T102953
UID:256896@https://singpromos.com
SUMMARY:Toyogo Up to 80% Off Warehouse Sale from 1 - 7 May 2022
DESCRIPTION:If you've shopped with Toyogo for a long time, you'll know that this is the sale you won't want to miss. For more information, visit [ https://singpromos.com/warehouse-sales/toyogo-up-to-80-off-warehouse-sale-from-1-7-may-2022-256896/ ]. 
LOCATION:319257
URL:https://singpromos.com/warehouse-sales/toyogo-up-to-80-off-warehouse-sale-from-1-7-may-2022-256896/
END:VEVENT
END:VCALENDAR