BEGIN:VCALENDAR
PRODID:-//SINGPromos.com//NONSGML v1.0//EN
VERSION:2.0
CALSCALE:GREGORIAN
METHOD:PUBLISH
X-WR-CALNAME:SINGPromos.com
X-ORIGINAL-URL:https://singpromos.com
X-WR-CALDESC:Events for SINGPromos.com
BEGIN:VEVENT
DTSTART:20220430T000000
DTEND:20220505T235900
DTSTAMP:20260424T005628
CREATED:20220430T112855
LAST-MODIFIED:20220430T124924
UID:256915@https://singpromos.com
SUMMARY:Dell S'pore: Save S$211.96 on the New XPS 15 Laptop with the latest promo + code till 5 May 2022
DESCRIPTION:Created for creators. For more information, visit [ https://singpromos.com/computers-pc/dell-spore-save-s211-96-on-the-new-xps-15-laptop-with-the-latest-promo-code-till-5-may-2022-256915/ ]. 
LOCATION:
URL:https://singpromos.com/computers-pc/dell-spore-save-s211-96-on-the-new-xps-15-laptop-with-the-latest-promo-code-till-5-may-2022-256915/
END:VEVENT
END:VCALENDAR