BEGIN:VCALENDAR
PRODID:-//SINGPromos.com//NONSGML v1.0//EN
VERSION:2.0
CALSCALE:GREGORIAN
METHOD:PUBLISH
X-WR-CALNAME:SINGPromos.com
X-ORIGINAL-URL:https://singpromos.com
X-WR-CALDESC:Events for SINGPromos.com
BEGIN:VEVENT
DTSTART:20220526T000000
DTEND:20220601T235900
DTSTAMP:20260424T034606
CREATED:20220526T093743
LAST-MODIFIED:20220526T093743
UID:257547@https://singpromos.com
SUMMARY:Fairprice is selling Haagen-Dazs ice cream tubs at $10.45 each when you buy two till June 1, 2022
DESCRIPTION:Haagen-Dazs fans, save on your favourite ice cream with this deal. For more information, visit [ https://singpromos.com/dining-restaurants-food/fairprice-is-selling-haagen-dazs-ice-cream-tubs-at-10-45-each-when-you-buy-two-till-june-1-2022-257547/ ]. 
LOCATION:
URL:https://singpromos.com/dining-restaurants-food/fairprice-is-selling-haagen-dazs-ice-cream-tubs-at-10-45-each-when-you-buy-two-till-june-1-2022-257547/
END:VEVENT
END:VCALENDAR