BEGIN:VCALENDAR
PRODID:-//SINGPromos.com//NONSGML v1.0//EN
VERSION:2.0
CALSCALE:GREGORIAN
METHOD:PUBLISH
X-WR-CALNAME:SINGPromos.com
X-ORIGINAL-URL:https://singpromos.com
X-WR-CALDESC:Events for SINGPromos.com
BEGIN:VEVENT
DTSTART:20220603T000000
DTEND:20220603T235900
DTSTAMP:20260420T172826
CREATED:20220603T121631
LAST-MODIFIED:20220603T121631
UID:257784@https://singpromos.com
SUMMARY:Dunkin' Donuts S'pore: Free Regular Donut with any Dunkin' drink on Friday, 3 June 2022
DESCRIPTION:Celebrate Global Donut Day. For more information, visit [ https://singpromos.com/dining-restaurants-food/dunkin-donuts-spore-free-regular-donut-with-any-dunkin-drink-on-friday-3-june-2022-257784/ ]. 
LOCATION:
URL:https://singpromos.com/dining-restaurants-food/dunkin-donuts-spore-free-regular-donut-with-any-dunkin-drink-on-friday-3-june-2022-257784/
END:VEVENT
END:VCALENDAR