BEGIN:VCALENDAR
PRODID:-//SINGPromos.com//NONSGML v1.0//EN
VERSION:2.0
CALSCALE:GREGORIAN
METHOD:PUBLISH
X-WR-CALNAME:SINGPromos.com
X-ORIGINAL-URL:https://singpromos.com
X-WR-CALDESC:Events for SINGPromos.com
BEGIN:VEVENT
DTSTART:20220609T000000
DTEND:20220615T235900
DTSTAMP:20260424T034621
CREATED:20220609T144833
LAST-MODIFIED:20220609T144833
UID:257930@https://singpromos.com
SUMMARY:Giant is offering Haagen Dazs ice cream pints at S$10.45 each when you buy two till 15 June 2022
DESCRIPTION:Time to stock up on Haagen Dazs ice cream.. For more information, visit [ https://singpromos.com/dining-restaurants-food/giant-is-offering-haagen-dazs-ice-cream-pints-at-s10-45-each-when-you-buy-two-till-15-june-2022-257930/ ]. 
LOCATION:
URL:https://singpromos.com/dining-restaurants-food/giant-is-offering-haagen-dazs-ice-cream-pints-at-s10-45-each-when-you-buy-two-till-15-june-2022-257930/
END:VEVENT
END:VCALENDAR