BEGIN:VCALENDAR
PRODID:-//SINGPromos.com//NONSGML v1.0//EN
VERSION:2.0
CALSCALE:GREGORIAN
METHOD:PUBLISH
X-WR-CALNAME:SINGPromos.com
X-ORIGINAL-URL:https://singpromos.com
X-WR-CALDESC:Events for SINGPromos.com
BEGIN:VEVENT
DTSTART:20220621T000000
DTEND:20220630T235900
DTSTAMP:20260420T055359
CREATED:20220621T144530
LAST-MODIFIED:20220621T154453
UID:258151@https://singpromos.com
SUMMARY:Giant Tampines Hypermarket selling durians from as low as S$2* per durian till 30 June 2022
DESCRIPTION:Satisfy your durian cravings while saving big. For more information, visit [ https://singpromos.com/dining-restaurants-food/giant-tampines-hypermarket-selling-durianes-from-as-low-as-s2-per-durian-till-30-june-2022-258151/ ]. 
LOCATION:528765
URL:https://singpromos.com/dining-restaurants-food/giant-tampines-hypermarket-selling-durianes-from-as-low-as-s2-per-durian-till-30-june-2022-258151/
END:VEVENT
END:VCALENDAR