BEGIN:VCALENDAR
PRODID:-//SINGPromos.com//NONSGML v1.0//EN
VERSION:2.0
CALSCALE:GREGORIAN
METHOD:PUBLISH
X-WR-CALNAME:SINGPromos.com
X-ORIGINAL-URL:https://singpromos.com
X-WR-CALDESC:Events for SINGPromos.com
BEGIN:VEVENT
DTSTART:20220623T000000
DTEND:20220629T235900
DTSTAMP:20260424T034551
CREATED:20220623T092417
LAST-MODIFIED:20220623T092417
UID:258185@https://singpromos.com
SUMMARY:Giant is selling Ben & Jerry's ice cream at S$8.96 each when you buy three till June 29, 2022
DESCRIPTION:Time to stock up on Ben & Jerry's ice cream.. For more information, visit [ https://singpromos.com/dining-restaurants-food/giant-is-selling-ben-jerrys-ice-cream-at-s8-96-each-when-you-buy-three-till-june-29-2022-258185/ ]. 
LOCATION:
URL:https://singpromos.com/dining-restaurants-food/giant-is-selling-ben-jerrys-ice-cream-at-s8-96-each-when-you-buy-three-till-june-29-2022-258185/
END:VEVENT
END:VCALENDAR