BEGIN:VCALENDAR
PRODID:-//SINGPromos.com//NONSGML v1.0//EN
VERSION:2.0
CALSCALE:GREGORIAN
METHOD:PUBLISH
X-WR-CALNAME:SINGPromos.com
X-ORIGINAL-URL:https://singpromos.com
X-WR-CALDESC:Events for SINGPromos.com
BEGIN:VEVENT
DTSTART:20220801T000000
DTEND:20230220T235900
DTSTAMP:20260422T082311
CREATED:20220801T104927
LAST-MODIFIED:20230221T124741
UID:258445@https://singpromos.com
SUMMARY:CRAVE: $5.70 For Nasi Lemak with Chicken Cutlet Set, $5 OFF Nasi Lemak Bundle For 2 NDP coupons valid till 31 May 2023
DESCRIPTION:Simply flash the respective image below. For more information, visit [ https://singpromos.com/dining-restaurants-food/crave-5-70-for-nasi-lemak-with-chicken-cutlet-set-5-off-nasi-lemak-bundle-for-2-ndp-coupons-valid-till-30-sep-2022-258445/ ]. 
LOCATION:
URL:https://singpromos.com/dining-restaurants-food/crave-5-70-for-nasi-lemak-with-chicken-cutlet-set-5-off-nasi-lemak-bundle-for-2-ndp-coupons-valid-till-30-sep-2022-258445/
END:VEVENT
END:VCALENDAR