BEGIN:VCALENDAR
PRODID:-//SINGPromos.com//NONSGML v1.0//EN
VERSION:2.0
CALSCALE:GREGORIAN
METHOD:PUBLISH
X-WR-CALNAME:SINGPromos.com
X-ORIGINAL-URL:https://singpromos.com
X-WR-CALDESC:Events for SINGPromos.com
BEGIN:VEVENT
DTSTART:20220701T000000
DTEND:20220831T235900
DTSTAMP:20260422T082145
CREATED:20220701T193853
LAST-MODIFIED:20220702T103228
UID:258463@https://singpromos.com
SUMMARY:Paris Baguette: $10 Cheongsong, Korea Apple Roll Cake (U.P. $16.50) NDP coupon valid till 31 August 2022
DESCRIPTION:Present the voucher upon ordering.. For more information, visit [ https://singpromos.com/dining-restaurants-food/paris-baguette-10-cheongsong-korea-apple-roll-cake-u-p-16-50-ndp-coupon-valid-till-31-august-2022-258463/ ]. 
LOCATION:
URL:https://singpromos.com/dining-restaurants-food/paris-baguette-10-cheongsong-korea-apple-roll-cake-u-p-16-50-ndp-coupon-valid-till-31-august-2022-258463/
END:VEVENT
END:VCALENDAR