BEGIN:VCALENDAR
PRODID:-//SINGPromos.com//NONSGML v1.0//EN
VERSION:2.0
CALSCALE:GREGORIAN
METHOD:PUBLISH
X-WR-CALNAME:SINGPromos.com
X-ORIGINAL-URL:https://singpromos.com
X-WR-CALDESC:Events for SINGPromos.com
BEGIN:VEVENT
DTSTART:20220707T000000
DTEND:20220711T235900
DTSTAMP:20260424T000152
CREATED:20220707T040427
LAST-MODIFIED:20220706T220447
UID:258654@https://singpromos.com
SUMMARY:OG: 20% OFF most brands' regular-priced items storewide at all outlets till 11 July 2022
DESCRIPTION:20%* off regular-priced items storewide. For more information, visit [ https://singpromos.com/department-stores/og-20-off-most-brands-regular-priced-items-storewide-at-all-outlets-till-11-july-2022-258654/ ]. 
LOCATION:
URL:https://singpromos.com/department-stores/og-20-off-most-brands-regular-priced-items-storewide-at-all-outlets-till-11-july-2022-258654/
END:VEVENT
END:VCALENDAR