BEGIN:VCALENDAR
PRODID:-//SINGPromos.com//NONSGML v1.0//EN
VERSION:2.0
CALSCALE:GREGORIAN
METHOD:PUBLISH
X-WR-CALNAME:SINGPromos.com
X-ORIGINAL-URL:https://singpromos.com
X-WR-CALDESC:Events for SINGPromos.com
BEGIN:VEVENT
DTSTART:20220727T000000
DTEND:20220811T235900
DTSTAMP:20260422T082231
CREATED:20220801T151807
LAST-MODIFIED:20220801T151807
UID:259273@https://singpromos.com
SUMMARY:RHB offering up to 2.5% p.a. fixed deposits at Parkway Parade branch till 11 Aug 2022
DESCRIPTION:Join RHB as they celebrate the opening of the newest Peranakan-themed branch at Parkway Parade. For more information, visit [ https://singpromos.com/banks-credit-cards/rhb-offering-up-to-2-5-p-a-fixed-deposits-at-parkway-parade-branch-till-11-aug-2022-259273/ ]. 
LOCATION:449269
URL:https://singpromos.com/banks-credit-cards/rhb-offering-up-to-2-5-p-a-fixed-deposits-at-parkway-parade-branch-till-11-aug-2022-259273/
END:VEVENT
END:VCALENDAR