BEGIN:VCALENDAR
PRODID:-//SINGPromos.com//NONSGML v1.0//EN
VERSION:2.0
CALSCALE:GREGORIAN
METHOD:PUBLISH
X-WR-CALNAME:SINGPromos.com
X-ORIGINAL-URL:https://singpromos.com
X-WR-CALDESC:Events for SINGPromos.com
BEGIN:VEVENT
DTSTART:20220804T000000
DTEND:20220810T235900
DTSTAMP:20260424T034604
CREATED:20220804T161415
LAST-MODIFIED:20220804T161415
UID:259483@https://singpromos.com
SUMMARY:Giant is offering Haagen Dazs ice cream pints at S$8.83 each when you buy three till Aug 10, 2022
DESCRIPTION:Time to stock up on Haagen Dazs ice cream.. For more information, visit [ https://singpromos.com/dining-restaurants-food/giant-is-offering-haagen-dazs-ice-cream-pints-at-s8-83-each-when-you-buy-three-till-aug-10-2022-259483/ ]. 
LOCATION:
URL:https://singpromos.com/dining-restaurants-food/giant-is-offering-haagen-dazs-ice-cream-pints-at-s8-83-each-when-you-buy-three-till-aug-10-2022-259483/
END:VEVENT
END:VCALENDAR