BEGIN:VCALENDAR
PRODID:-//SINGPromos.com//NONSGML v1.0//EN
VERSION:2.0
CALSCALE:GREGORIAN
METHOD:PUBLISH
X-WR-CALNAME:SINGPromos.com
X-ORIGINAL-URL:https://singpromos.com
X-WR-CALDESC:Events for SINGPromos.com
BEGIN:VEVENT
DTSTART:20220824T000000
DTEND:20220829T235900
DTSTAMP:20260420T003327
CREATED:20220824T173857
LAST-MODIFIED:20220824T173857
UID:259995@https://singpromos.com
SUMMARY:Malaysia Airlines Celebrates National Month with up to 31% off until 29 August 2022
DESCRIPTION:Up to 31% off on all its fare categories to all domestic and selected international destinations until 29 August 2022 for travel up to 12 April 2023. For more information, visit [ https://singpromos.com/airlines-flights/malaysia-airlines-celebrates-national-month-with-up-to-31-off-until-29-august-2022-259995/ ]. 
LOCATION:
URL:https://singpromos.com/airlines-flights/malaysia-airlines-celebrates-national-month-with-up-to-31-off-until-29-august-2022-259995/
END:VEVENT
END:VCALENDAR