BEGIN:VCALENDAR
PRODID:-//SINGPromos.com//NONSGML v1.0//EN
VERSION:2.0
CALSCALE:GREGORIAN
METHOD:PUBLISH
X-WR-CALNAME:SINGPromos.com
X-ORIGINAL-URL:https://singpromos.com
X-WR-CALDESC:Events for SINGPromos.com
BEGIN:VEVENT
DTSTART:20220825T000000
DTEND:20220831T235900
DTSTAMP:20260424T034620
CREATED:20220825T123805
LAST-MODIFIED:20220825T124121
UID:260026@https://singpromos.com
SUMMARY:Giant is selling Ben & Jerry's ice cream at S$9.95 each when you buy two till Aug 31 2022
DESCRIPTION:Time to stock up on Ben & Jerry's ice cream.. For more information, visit [ https://singpromos.com/dining-restaurants-food/giant-is-selling-ben-jerrys-ice-cream-at-s9-95-each-when-you-buy-two-till-aug-31-2022-260026/ ]. 
LOCATION:
URL:https://singpromos.com/dining-restaurants-food/giant-is-selling-ben-jerrys-ice-cream-at-s9-95-each-when-you-buy-two-till-aug-31-2022-260026/
END:VEVENT
END:VCALENDAR