BEGIN:VCALENDAR
PRODID:-//SINGPromos.com//NONSGML v1.0//EN
VERSION:2.0
CALSCALE:GREGORIAN
METHOD:PUBLISH
X-WR-CALNAME:SINGPromos.com
X-ORIGINAL-URL:https://singpromos.com
X-WR-CALDESC:Events for SINGPromos.com
BEGIN:VEVENT
DTSTART:20220905T000000
DTEND:20220909T235900
DTSTAMP:20260420T061851
CREATED:20220905T131047
LAST-MODIFIED:20220905T131047
UID:260343@https://singpromos.com
SUMMARY:McDonald's S'pore offering 2 for $3 Hershey's Sundae on weekdays 3 - 5pm till 9 Sep 2022
DESCRIPTION:Weekday savers. For more information, visit [ https://singpromos.com/dining-restaurants-food/mcdonalds-spore-offering-2-for-3-hersheys-sundae-on-weekdays-3-5pm-till-9-sep-2022-260343/ ]. 
LOCATION:
URL:https://singpromos.com/dining-restaurants-food/mcdonalds-spore-offering-2-for-3-hersheys-sundae-on-weekdays-3-5pm-till-9-sep-2022-260343/
END:VEVENT
END:VCALENDAR