BEGIN:VCALENDAR
PRODID:-//SINGPromos.com//NONSGML v1.0//EN
VERSION:2.0
CALSCALE:GREGORIAN
METHOD:PUBLISH
X-WR-CALNAME:SINGPromos.com
X-ORIGINAL-URL:https://singpromos.com
X-WR-CALDESC:Events for SINGPromos.com
BEGIN:VEVENT
DTSTART:20220907T000000
DTEND:20220911T235900
DTSTAMP:20260419T233301
CREATED:20220907T112404
LAST-MODIFIED:20220907T112404
UID:260378@https://singpromos.com
SUMMARY:Watsons S'pore offering up to $59 off at online store with these codes valid till 11 Sep 2022
DESCRIPTION:9.9 Super Sale 2022. For more information, visit [ https://singpromos.com/department-stores/watsons-spore-offering-up-to-59-off-at-online-store-with-these-codes-valid-till-11-sep-2022-260378/ ]. 
LOCATION:
URL:https://singpromos.com/department-stores/watsons-spore-offering-up-to-59-off-at-online-store-with-these-codes-valid-till-11-sep-2022-260378/
END:VEVENT
END:VCALENDAR