BEGIN:VCALENDAR
PRODID:-//SINGPromos.com//NONSGML v1.0//EN
VERSION:2.0
CALSCALE:GREGORIAN
METHOD:PUBLISH
X-WR-CALNAME:SINGPromos.com
X-ORIGINAL-URL:https://singpromos.com
X-WR-CALDESC:Events for SINGPromos.com
BEGIN:VEVENT
DTSTART:20220915T000000
DTEND:20220921T235900
DTSTAMP:20260424T000217
CREATED:20220915T123722
LAST-MODIFIED:20220915T123722
UID:260567@https://singpromos.com
SUMMARY:OG offering 20% OFF most brands' regular-priced items storewide at all outlets till 21 Sep 2022
DESCRIPTION:20%* off regular-priced items storewide. For more information, visit [ https://singpromos.com/department-stores/og-offering-20-off-most-brands-regular-priced-items-storewide-at-all-outlets-till-21-sep-2022-260567/ ]. 
LOCATION:
URL:https://singpromos.com/department-stores/og-offering-20-off-most-brands-regular-priced-items-storewide-at-all-outlets-till-21-sep-2022-260567/
END:VEVENT
END:VCALENDAR