BEGIN:VCALENDAR
PRODID:-//SINGPromos.com//NONSGML v1.0//EN
VERSION:2.0
CALSCALE:GREGORIAN
METHOD:PUBLISH
X-WR-CALNAME:SINGPromos.com
X-ORIGINAL-URL:https://singpromos.com
X-WR-CALDESC:Events for SINGPromos.com
BEGIN:VEVENT
DTSTART:20221005T000000
DTEND:20221009T235900
DTSTAMP:20260420T043347
CREATED:20221004T163533
LAST-MODIFIED:20221004T124725
UID:261106@https://singpromos.com
SUMMARY:Geláre offering 1-for-1 single scoop ice cream cups at selected outlets from 5 - 9 Oct 2022, 12 to 3pm
DESCRIPTION:From cappuccino to chocolate overload, there are 17 flavours to choose from. For more information, visit [ https://singpromos.com/dining-restaurants-food/gelare-offering-1-for-1-single-scoop-ice-cream-cups-at-selected-outlets-from-5-9-oct-2022-12-to-3pm-261106/ ]. 
LOCATION:
URL:https://singpromos.com/dining-restaurants-food/gelare-offering-1-for-1-single-scoop-ice-cream-cups-at-selected-outlets-from-5-9-oct-2022-12-to-3pm-261106/
END:VEVENT
END:VCALENDAR