BEGIN:VCALENDAR
PRODID:-//SINGPromos.com//NONSGML v1.0//EN
VERSION:2.0
CALSCALE:GREGORIAN
METHOD:PUBLISH
X-WR-CALNAME:SINGPromos.com
X-ORIGINAL-URL:https://singpromos.com
X-WR-CALDESC:Events for SINGPromos.com
BEGIN:VEVENT
DTSTART:20221005T000000
DTEND:20221031T235900
DTSTAMP:20260422T055656
CREATED:20221005T210102
LAST-MODIFIED:20221005T212749
UID:261149@https://singpromos.com
SUMMARY:Garrett Popcorn S'pore offering the 2nd Large Bag for just S$7 when you buy 1 Large Bag till Oct 31, 2022
DESCRIPTION:While ingredients last. For more information, visit [ https://singpromos.com/dining-restaurants-food/garrett-popcorn-spore-offering-the-2nd-large-bag-for-just-s7-when-you-buy-1-large-bag-till-oct-31-2022-261149/ ]. 
LOCATION:
URL:https://singpromos.com/dining-restaurants-food/garrett-popcorn-spore-offering-the-2nd-large-bag-for-just-s7-when-you-buy-1-large-bag-till-oct-31-2022-261149/
END:VEVENT
END:VCALENDAR