BEGIN:VCALENDAR
PRODID:-//SINGPromos.com//NONSGML v1.0//EN
VERSION:2.0
CALSCALE:GREGORIAN
METHOD:PUBLISH
X-WR-CALNAME:SINGPromos.com
X-ORIGINAL-URL:https://singpromos.com
X-WR-CALDESC:Events for SINGPromos.com
BEGIN:VEVENT
DTSTART:20221006T000000
DTEND:20221010T235900
DTSTAMP:20260424T000218
CREATED:20221006T063250
LAST-MODIFIED:20221005T213329
UID:261154@https://singpromos.com
SUMMARY:OG offering 20% OFF most brands' regular-priced items storewide at all outlets till 10 Oct 2022
DESCRIPTION:20%* off regular-priced items storewide. For more information, visit [ https://singpromos.com/department-stores/og-offering-20-off-most-brands-regular-priced-items-storewide-at-all-outlets-till-10-oct-2022-261154/ ]. 
LOCATION:
URL:https://singpromos.com/department-stores/og-offering-20-off-most-brands-regular-priced-items-storewide-at-all-outlets-till-10-oct-2022-261154/
END:VEVENT
END:VCALENDAR