BEGIN:VCALENDAR
PRODID:-//SINGPromos.com//NONSGML v1.0//EN
VERSION:2.0
CALSCALE:GREGORIAN
METHOD:PUBLISH
X-WR-CALNAME:SINGPromos.com
X-ORIGINAL-URL:https://singpromos.com
X-WR-CALDESC:Events for SINGPromos.com
BEGIN:VEVENT
DTSTART:20221006T000000
DTEND:20221010T235900
DTSTAMP:20260420T182445
CREATED:20221006T104808
LAST-MODIFIED:20221006T105833
UID:261173@https://singpromos.com
SUMMARY:Jetstar's Dream Bigger Sale offers fares from S$59 to Bangkok, KL, Phuket, Penang and more (Book by 10 Oct 2022)
DESCRIPTION:Sale fares to Bangkok, Phuket and more. For more information, visit [ https://singpromos.com/airlines-flights/jetstars-dream-bigger-sale-offers-fares-from-s59-tobangkok-kl-phuket-penang-and-more-book-by-10-oct-2022-261173/ ]. 
LOCATION:
URL:https://singpromos.com/airlines-flights/jetstars-dream-bigger-sale-offers-fares-from-s59-tobangkok-kl-phuket-penang-and-more-book-by-10-oct-2022-261173/
END:VEVENT
END:VCALENDAR