BEGIN:VCALENDAR
PRODID:-//SINGPromos.com//NONSGML v1.0//EN
VERSION:2.0
CALSCALE:GREGORIAN
METHOD:PUBLISH
X-WR-CALNAME:SINGPromos.com
X-ORIGINAL-URL:https://singpromos.com
X-WR-CALDESC:Events for SINGPromos.com
BEGIN:VEVENT
DTSTART:20221026T000000
DTEND:20221220T235900
DTSTAMP:20260422T081546
CREATED:20221026T080602
LAST-MODIFIED:20221020T101651
UID:261456@https://singpromos.com
SUMMARY:7-Eleven S'pore launching new Disney Ramen Bowls in latest Shop and Earn Stamps programme till 20 Dec 2022
DESCRIPTION:Mickey, Spider-Man, The Avengers, and more are featured. For more information, visit [ https://singpromos.com/dining-restaurants-food/7-eleven-spore-launching-new-disney-ramen-bowls-in-latest-shop-and-earn-stamps-programme-till-20-dec-2022-261456/ ]. 
LOCATION:
URL:https://singpromos.com/dining-restaurants-food/7-eleven-spore-launching-new-disney-ramen-bowls-in-latest-shop-and-earn-stamps-programme-till-20-dec-2022-261456/
END:VEVENT
END:VCALENDAR