BEGIN:VCALENDAR
PRODID:-//SINGPromos.com//NONSGML v1.0//EN
VERSION:2.0
CALSCALE:GREGORIAN
METHOD:PUBLISH
X-WR-CALNAME:SINGPromos.com
X-ORIGINAL-URL:https://singpromos.com
X-WR-CALDESC:Events for SINGPromos.com
BEGIN:VEVENT
DTSTART:20221021T000000
DTEND:20221024T235900
DTSTAMP:20260420T055455
CREATED:20221020T112144
LAST-MODIFIED:20221021T151844
UID:261477@https://singpromos.com
SUMMARY:Giant warehouse sale at Tampines & IMM Hypermarket outlet from 21 - 24 Oct 2022
DESCRIPTION:Up to 80% OFF household & electrical items. For more information, visit [ https://singpromos.com/warehouse-sales/giant-warehouse-sale-at-tampines-imm-outlet-from-21-24-oct-2022-261477/ ]. 
LOCATION:
URL:https://singpromos.com/warehouse-sales/giant-warehouse-sale-at-tampines-imm-outlet-from-21-24-oct-2022-261477/
END:VEVENT
END:VCALENDAR