BEGIN:VCALENDAR
PRODID:-//SINGPromos.com//NONSGML v1.0//EN
VERSION:2.0
CALSCALE:GREGORIAN
METHOD:PUBLISH
X-WR-CALNAME:SINGPromos.com
X-ORIGINAL-URL:https://singpromos.com
X-WR-CALDESC:Events for SINGPromos.com
BEGIN:VEVENT
DTSTART:20221010T000000
DTEND:20221031T235900
DTSTAMP:20260420T214056
CREATED:20221023T194252
LAST-MODIFIED:20221023T194704
UID:261589@https://singpromos.com
SUMMARY:State Bank of India S'pore offering up to 3.30% p.a. with latest SGD Dollar Fixed Deposit promo till 31 Oct 2022
DESCRIPTION:Applicable for fresh and renewal of funds for a limited period only.. For more information, visit [ https://singpromos.com/banks-credit-cards/state-bank-of-india-spore-offering-up-to-3-28-p-a-with-latest-sgd-dollar-fixed-deposit-promo-till-31-oct-2022-261589/ ]. 
LOCATION:
URL:https://singpromos.com/banks-credit-cards/state-bank-of-india-spore-offering-up-to-3-28-p-a-with-latest-sgd-dollar-fixed-deposit-promo-till-31-oct-2022-261589/
END:VEVENT
END:VCALENDAR