BEGIN:VCALENDAR
PRODID:-//SINGPromos.com//NONSGML v1.0//EN
VERSION:2.0
CALSCALE:GREGORIAN
METHOD:PUBLISH
X-WR-CALNAME:SINGPromos.com
X-ORIGINAL-URL:https://singpromos.com
X-WR-CALDESC:Events for SINGPromos.com
BEGIN:VEVENT
DTSTART:20120218T000000
DTEND:20120224T235900
DTSTAMP:20260420T214024
CREATED:20120218T145052
LAST-MODIFIED:20120222T145931
UID:26164@https://singpromos.com
SUMMARY:Harvey Norman Electronics, Appliances, Mattresses & IT Offers 18 - 24 Feb 2012
DESCRIPTION:Harvey Norman continues their Warehouse Moving Out Sale on appliances, digital cameras, notebooks, mattress, bed frames and furniture items, valid till up to 24 February 2012.. For more information, visit [ https://singpromos.com/computers-pc/harvey-norman-electronics-appliances-mattresses-it-offers-18-24-feb-2012-26164/ ]. 
LOCATION:
URL:https://singpromos.com/computers-pc/harvey-norman-electronics-appliances-mattresses-it-offers-18-24-feb-2012-26164/
END:VEVENT
END:VCALENDAR