BEGIN:VCALENDAR
PRODID:-//SINGPromos.com//NONSGML v1.0//EN
VERSION:2.0
CALSCALE:GREGORIAN
METHOD:PUBLISH
X-WR-CALNAME:SINGPromos.com
X-ORIGINAL-URL:https://singpromos.com
X-WR-CALDESC:Events for SINGPromos.com
BEGIN:VEVENT
DTSTART:20221103T000000
DTEND:20221109T235900
DTSTAMP:20260424T034622
CREATED:20221103T154830
LAST-MODIFIED:20221103T154951
UID:261877@https://singpromos.com
SUMMARY:Giant is offering Haagen Dazs ice cream pints at S$8.33 each when you buy three till Nov 9, 2022
DESCRIPTION:Time to stock up on Haagen Dazs ice cream.. For more information, visit [ https://singpromos.com/dining-restaurants-food/giant-is-offering-haagen-dazs-ice-cream-pints-at-s8-33-each-when-you-buy-three-till-nov-9-2022-261877/ ]. 
LOCATION:
URL:https://singpromos.com/dining-restaurants-food/giant-is-offering-haagen-dazs-ice-cream-pints-at-s8-33-each-when-you-buy-three-till-nov-9-2022-261877/
END:VEVENT
END:VCALENDAR