BEGIN:VCALENDAR
PRODID:-//SINGPromos.com//NONSGML v1.0//EN
VERSION:2.0
CALSCALE:GREGORIAN
METHOD:PUBLISH
X-WR-CALNAME:SINGPromos.com
X-ORIGINAL-URL:https://singpromos.com
X-WR-CALDESC:Events for SINGPromos.com
BEGIN:VEVENT
DTSTART:20221104T000000
DTEND:20221106T235900
DTSTAMP:20260424T034621
CREATED:20221104T130723
LAST-MODIFIED:20221104T130723
UID:261909@https://singpromos.com
SUMMARY:Giant S'pore offering free Meadows Essentials Shopping Trolley worth S$15 when you spend $80 till 6 Nov 2022
DESCRIPTION:Weekend free gift special. For more information, visit [ https://singpromos.com/department-stores/giant-spore-offering-free-meadows-essentials-shopping-trolley-worth-s15-when-you-spend-80-till-6-nov-2022-261909/ ]. 
LOCATION:
URL:https://singpromos.com/department-stores/giant-spore-offering-free-meadows-essentials-shopping-trolley-worth-s15-when-you-spend-80-till-6-nov-2022-261909/
END:VEVENT
END:VCALENDAR