BEGIN:VCALENDAR
PRODID:-//SINGPromos.com//NONSGML v1.0//EN
VERSION:2.0
CALSCALE:GREGORIAN
METHOD:PUBLISH
X-WR-CALNAME:SINGPromos.com
X-ORIGINAL-URL:https://singpromos.com
X-WR-CALDESC:Events for SINGPromos.com
BEGIN:VEVENT
DTSTART:20221107T000000
DTEND:20221111T235900
DTSTAMP:20260420T044138
CREATED:20221107T131740
LAST-MODIFIED:20221107T132008
UID:261984@https://singpromos.com
SUMMARY:Awfully Chocolate's 1-for-1 hei ice cream promotion returns till 11 Nov 2022
DESCRIPTION:Produced with a low overrun, this ensures that the ice cream gives a rich and dense flavour. For more information, visit [ https://singpromos.com/dining-restaurants-food/awfully-chocolates-1-for-1-hei-ice-cream-promotion-returns-till-11-nov-2022-261984/ ]. 
LOCATION:
URL:https://singpromos.com/dining-restaurants-food/awfully-chocolates-1-for-1-hei-ice-cream-promotion-returns-till-11-nov-2022-261984/
END:VEVENT
END:VCALENDAR