BEGIN:VCALENDAR
PRODID:-//SINGPromos.com//NONSGML v1.0//EN
VERSION:2.0
CALSCALE:GREGORIAN
METHOD:PUBLISH
X-WR-CALNAME:SINGPromos.com
X-ORIGINAL-URL:https://singpromos.com
X-WR-CALDESC:Events for SINGPromos.com
BEGIN:VEVENT
DTSTART:20221107T000000
DTEND:20221113T235900
DTSTAMP:20260422T082112
CREATED:20221107T181020
LAST-MODIFIED:20221107T181020
UID:261992@https://singpromos.com
SUMMARY:Under Armour S'pore offering up to 60% off in 11.11 sale till 13 Nov 2022
DESCRIPTION:Get up to 60% off. Buy 2 at 25% off full-priced items or buy 2 at extra 50% off outlet items. For more information, visit [ https://singpromos.com/fashion-accessories/under-armour-spore-offering-up-to-60-off-in-11-11-sale-till-13-nov-2022-261992/ ]. 
LOCATION:
URL:https://singpromos.com/fashion-accessories/under-armour-spore-offering-up-to-60-off-in-11-11-sale-till-13-nov-2022-261992/
END:VEVENT
END:VCALENDAR