BEGIN:VCALENDAR
PRODID:-//SINGPromos.com//NONSGML v1.0//EN
VERSION:2.0
CALSCALE:GREGORIAN
METHOD:PUBLISH
X-WR-CALNAME:SINGPromos.com
X-ORIGINAL-URL:https://singpromos.com
X-WR-CALDESC:Events for SINGPromos.com
BEGIN:VEVENT
DTSTART:20120223T000000
DTEND:20120224T235900
DTSTAMP:20260420T061840
CREATED:20120223T095138
LAST-MODIFIED:20120225T091139
UID:26220@https://singpromos.com
SUMMARY:Element Amara Singapore 38% Off International Buffet Dinner 23 Feb 2012
DESCRIPTION:$39 nett instead of $62.40 for Daily International Buffet Dinner at Element, Amara Singapore + Free Flow of Soft Drinks + Oysters, Sashimi, Lobster, Carvery & Various Delicacies - that's 38% off the usual price! Learn how to get the deal before it ends soon. For more information, visit [ https://singpromos.com/dining-restaurants-food/element-amara-singapore-38-off-international-buffet-dinner-23-feb-2012-26220/ ]. 
LOCATION:
URL:https://singpromos.com/dining-restaurants-food/element-amara-singapore-38-off-international-buffet-dinner-23-feb-2012-26220/
END:VEVENT
END:VCALENDAR