BEGIN:VCALENDAR
PRODID:-//SINGPromos.com//NONSGML v1.0//EN
VERSION:2.0
CALSCALE:GREGORIAN
METHOD:PUBLISH
X-WR-CALNAME:SINGPromos.com
X-ORIGINAL-URL:https://singpromos.com
X-WR-CALDESC:Events for SINGPromos.com
BEGIN:VEVENT
DTSTART:20221110T000000
DTEND:20221114T235900
DTSTAMP:20260420T043312
CREATED:20221114T032008
LAST-MODIFIED:20221114T012919
UID:262203@https://singpromos.com
SUMMARY:Geláre offering 1-for-1 single scoop ice-cream cup all-day at 3 outlets till 14 Nov 2022
DESCRIPTION:Good things come in pairs. For more information, visit [ https://singpromos.com/dining-restaurants-food/gelare-offering-1-for-1-single-scoop-ice-cream-cup-all-day-at-3-outlets-till-14-nov-2022-262203/ ]. 
LOCATION:
URL:https://singpromos.com/dining-restaurants-food/gelare-offering-1-for-1-single-scoop-ice-cream-cup-all-day-at-3-outlets-till-14-nov-2022-262203/
END:VEVENT
END:VCALENDAR