BEGIN:VCALENDAR
PRODID:-//SINGPromos.com//NONSGML v1.0//EN
VERSION:2.0
CALSCALE:GREGORIAN
METHOD:PUBLISH
X-WR-CALNAME:SINGPromos.com
X-ORIGINAL-URL:https://singpromos.com
X-WR-CALDESC:Events for SINGPromos.com
BEGIN:VEVENT
DTSTART:20221118T000000
DTEND:20221129T235900
DTSTAMP:20260422T040151
CREATED:20221118T120631
LAST-MODIFIED:20221118T120632
UID:262346@https://singpromos.com
SUMMARY:Norton now offering up to $55 off selected products till 29 Nov 2022
DESCRIPTION:Powerful protection for your devices. For more information, visit [ https://singpromos.com/computers-pc/norton-now-offering-up-to-55-off-selected-products-till-29-nov-2022-262346/ ]. 
LOCATION:
URL:https://singpromos.com/computers-pc/norton-now-offering-up-to-55-off-selected-products-till-29-nov-2022-262346/
END:VEVENT
END:VCALENDAR