BEGIN:VCALENDAR
PRODID:-//SINGPromos.com//NONSGML v1.0//EN
VERSION:2.0
CALSCALE:GREGORIAN
METHOD:PUBLISH
X-WR-CALNAME:SINGPromos.com
X-ORIGINAL-URL:https://singpromos.com
X-WR-CALDESC:Events for SINGPromos.com
BEGIN:VEVENT
DTSTART:20221119T000000
DTEND:20221204T235900
DTSTAMP:20260420T042627
CREATED:20221120T140206
LAST-MODIFIED:20221120T140206
UID:262387@https://singpromos.com
SUMMARY:Giant Tampines Pasar Malam till 4 Dec has durians, buttered corn, crispy chicken and more
DESCRIPTION:From your classic local delights to carnival games, expect more than 20 food stalls and games. For more information, visit [ https://singpromos.com/happenings/giant-tampines-pasar-malam-till-4-dec-has-durians-buttered-corn-crispy-chicken-and-more-262387/ ]. 
LOCATION:528765
URL:https://singpromos.com/happenings/giant-tampines-pasar-malam-till-4-dec-has-durians-buttered-corn-crispy-chicken-and-more-262387/
END:VEVENT
END:VCALENDAR