BEGIN:VCALENDAR
PRODID:-//SINGPromos.com//NONSGML v1.0//EN
VERSION:2.0
CALSCALE:GREGORIAN
METHOD:PUBLISH
X-WR-CALNAME:SINGPromos.com
X-ORIGINAL-URL:https://singpromos.com
X-WR-CALDESC:Events for SINGPromos.com
BEGIN:VEVENT
DTSTART:20221124T000000
DTEND:20221130T235900
DTSTAMP:20260424T034622
CREATED:20221124T094708
LAST-MODIFIED:20221124T094816
UID:262592@https://singpromos.com
SUMMARY:Giant is selling Ben & Jerry's ice cream at S$10.25 each when you buy two till 30 Nov 2022
DESCRIPTION:Time to stock up on Ben & Jerry's ice cream.. For more information, visit [ https://singpromos.com/dining-restaurants-food/giant-is-selling-ben-jerrys-ice-cream-at-s10-25-each-when-you-buy-two-till-30-nov-2022-262592/ ]. 
LOCATION:
URL:https://singpromos.com/dining-restaurants-food/giant-is-selling-ben-jerrys-ice-cream-at-s10-25-each-when-you-buy-two-till-30-nov-2022-262592/
END:VEVENT
END:VCALENDAR