BEGIN:VCALENDAR
PRODID:-//SINGPromos.com//NONSGML v1.0//EN
VERSION:2.0
CALSCALE:GREGORIAN
METHOD:PUBLISH
X-WR-CALNAME:SINGPromos.com
X-ORIGINAL-URL:https://singpromos.com
X-WR-CALDESC:Events for SINGPromos.com
BEGIN:VEVENT
DTSTART:20221209T000000
DTEND:20221215T235900
DTSTAMP:20260422T082152
CREATED:20221209T140556
LAST-MODIFIED:20221209T140556
UID:263133@https://singpromos.com
SUMMARY:Under Armour S'pore offering up to 60% off in online 12.12 sale till 15 Dec 2022
DESCRIPTION:Be the best & never settle for less. For more information, visit [ https://singpromos.com/fashion-accessories/under-armour-spore-offering-up-to-60-off-in-online-12-12-sale-till-15-dec-2022-263133/ ]. 
LOCATION:
URL:https://singpromos.com/fashion-accessories/under-armour-spore-offering-up-to-60-off-in-online-12-12-sale-till-15-dec-2022-263133/
END:VEVENT
END:VCALENDAR