BEGIN:VCALENDAR
PRODID:-//SINGPromos.com//NONSGML v1.0//EN
VERSION:2.0
CALSCALE:GREGORIAN
METHOD:PUBLISH
X-WR-CALNAME:SINGPromos.com
X-ORIGINAL-URL:https://singpromos.com
X-WR-CALDESC:Events for SINGPromos.com
BEGIN:VEVENT
DTSTART:20221214T000000
DTEND:20230109T235900
DTSTAMP:20260422T020457
CREATED:20221214T121607
LAST-MODIFIED:20221214T121607
UID:263203@https://singpromos.com
SUMMARY:Norton S'pore now offering up to $55 off selected products till 9 Jan 2023
DESCRIPTION:Powerful protection for your devices. For more information, visit [ https://singpromos.com/computers-pc/norton-spore-now-offering-up-to-55-off-selected-products-till-9-jan-2023-263203/ ]. 
LOCATION:
URL:https://singpromos.com/computers-pc/norton-spore-now-offering-up-to-55-off-selected-products-till-9-jan-2023-263203/
END:VEVENT
END:VCALENDAR